BEGIN:VCALENDAR
VERSION:2.0
PRODID:-//Saxocell - ECPv6.15.20//NONSGML v1.0//EN
CALSCALE:GREGORIAN
METHOD:PUBLISH
X-WR-CALNAME:Saxocell
X-ORIGINAL-URL:https://www.saxocell.de
X-WR-CALDESC:Veranstaltungen für Saxocell
REFRESH-INTERVAL;VALUE=DURATION:PT1H
X-Robots-Tag:noindex
X-PUBLISHED-TTL:PT1H
BEGIN:VTIMEZONE
TZID:Europe/Berlin
BEGIN:DAYLIGHT
TZOFFSETFROM:+0100
TZOFFSETTO:+0200
TZNAME:CEST
DTSTART:20240331T010000
END:DAYLIGHT
BEGIN:STANDARD
TZOFFSETFROM:+0200
TZOFFSETTO:+0100
TZNAME:CET
DTSTART:20241027T010000
END:STANDARD
BEGIN:DAYLIGHT
TZOFFSETFROM:+0100
TZOFFSETTO:+0200
TZNAME:CEST
DTSTART:20250330T010000
END:DAYLIGHT
BEGIN:STANDARD
TZOFFSETFROM:+0200
TZOFFSETTO:+0100
TZNAME:CET
DTSTART:20251026T010000
END:STANDARD
BEGIN:DAYLIGHT
TZOFFSETFROM:+0100
TZOFFSETTO:+0200
TZNAME:CEST
DTSTART:20260329T010000
END:DAYLIGHT
BEGIN:STANDARD
TZOFFSETFROM:+0200
TZOFFSETTO:+0100
TZNAME:CET
DTSTART:20261025T010000
END:STANDARD
END:VTIMEZONE
BEGIN:VEVENT
DTSTART;VALUE=DATE:20250218
DTEND;VALUE=DATE:20250219
DTSTAMP:20260421T121646
CREATED:20250117T134233Z
LAST-MODIFIED:20250117T134233Z
UID:12806-1739836800-1739923199@www.saxocell.de
SUMMARY:GeneNovate WS2
DESCRIPTION:Weitere Informationen folgen in Kürze.
URL:https://www.saxocell.de/calendar/genenovate-ws2/
LOCATION:Leipzig\, Germany
END:VEVENT
BEGIN:VEVENT
DTSTART;TZID=Europe/Berlin:20250218T113000
DTEND;TZID=Europe/Berlin:20250218T121500
DTSTAMP:20260421T121646
CREATED:20250113T104508Z
LAST-MODIFIED:20250113T104508Z
UID:12706-1739878200-1739880900@www.saxocell.de
SUMMARY:Science4Life Webinar: PR für Start-ups - So überzeugt ihr Journalisten
DESCRIPTION:Für Start-ups ist Pressearbeit ein günstiges und effektives Marketing-Tool\, um Kunden und Investoren von sich zu überzeugen. Carina Goldschmid von PIABO gibt im Online-Seminar einen Überblick über die Möglichkeiten von PR und zeigt\, mit welchen Themen und Aktionen man bei Journalisten wirklich punkten kann.\nReferentin: Carina Goldschmid\, PIABO PR GmbH
URL:https://www.saxocell.de/calendar/science4life-webinar-pr-fuer-start-ups-so-ueberzeugt-ihr-journalisten/
LOCATION:Online
END:VEVENT
END:VCALENDAR