BEGIN:VCALENDAR
VERSION:2.0
PRODID:-//Saxocell - ECPv6.15.20//NONSGML v1.0//EN
CALSCALE:GREGORIAN
METHOD:PUBLISH
X-WR-CALNAME:Saxocell
X-ORIGINAL-URL:https://www.saxocell.de
X-WR-CALDESC:Veranstaltungen für Saxocell
REFRESH-INTERVAL;VALUE=DURATION:PT1H
X-Robots-Tag:noindex
X-PUBLISHED-TTL:PT1H
BEGIN:VTIMEZONE
TZID:Europe/Berlin
BEGIN:DAYLIGHT
TZOFFSETFROM:+0100
TZOFFSETTO:+0200
TZNAME:CEST
DTSTART:20240331T010000
END:DAYLIGHT
BEGIN:STANDARD
TZOFFSETFROM:+0200
TZOFFSETTO:+0100
TZNAME:CET
DTSTART:20241027T010000
END:STANDARD
BEGIN:DAYLIGHT
TZOFFSETFROM:+0100
TZOFFSETTO:+0200
TZNAME:CEST
DTSTART:20250330T010000
END:DAYLIGHT
BEGIN:STANDARD
TZOFFSETFROM:+0200
TZOFFSETTO:+0100
TZNAME:CET
DTSTART:20251026T010000
END:STANDARD
BEGIN:DAYLIGHT
TZOFFSETFROM:+0100
TZOFFSETTO:+0200
TZNAME:CEST
DTSTART:20260329T010000
END:DAYLIGHT
BEGIN:STANDARD
TZOFFSETFROM:+0200
TZOFFSETTO:+0100
TZNAME:CET
DTSTART:20261025T010000
END:STANDARD
END:VTIMEZONE
BEGIN:VEVENT
DTSTART;TZID=Europe/Berlin:20250226T113000
DTEND;TZID=Europe/Berlin:20250226T121500
DTSTAMP:20260421T121652
CREATED:20250113T104618Z
LAST-MODIFIED:20250113T104618Z
UID:12708-1740569400-1740572100@www.saxocell.de
SUMMARY: Science4Life Webinar: Rechtsfragen von Venture Capital-Finanzierungen
DESCRIPTION:Das Webinar bietet einen Überblick über die nicht notwendigerweise nur rechtlichen Kernfragen von Venture Capital Finanzierungen junger technologiegetriebener Unternehmen: Wann liegt ein Venture Capital Case vor? Wie gelangt man zu einer Bewertung? Wie schützen Investoren ihr Investment? Worauf müssen Gründer achten und was wird von ihnen verlangt?\nReferent: Prof. Dr. Hans-Eric Rasmussen-Bonne\, Weitnauer Partnerschaft mbB Rechtsanwälte Steuerberater
URL:https://www.saxocell.de/calendar/science4life-webinar-rechtsfragen-von-venture-capital-finanzierungen/
LOCATION:Online
END:VEVENT
END:VCALENDAR