BEGIN:VCALENDAR
VERSION:2.0
PRODID:-//Saxocell - ECPv6.15.20//NONSGML v1.0//EN
CALSCALE:GREGORIAN
METHOD:PUBLISH
X-WR-CALNAME:Saxocell
X-ORIGINAL-URL:https://www.saxocell.de
X-WR-CALDESC:Veranstaltungen für Saxocell
REFRESH-INTERVAL;VALUE=DURATION:PT1H
X-Robots-Tag:noindex
X-PUBLISHED-TTL:PT1H
BEGIN:VTIMEZONE
TZID:Europe/Berlin
BEGIN:DAYLIGHT
TZOFFSETFROM:+0100
TZOFFSETTO:+0200
TZNAME:CEST
DTSTART:20250330T010000
END:DAYLIGHT
BEGIN:STANDARD
TZOFFSETFROM:+0200
TZOFFSETTO:+0100
TZNAME:CET
DTSTART:20251026T010000
END:STANDARD
BEGIN:DAYLIGHT
TZOFFSETFROM:+0100
TZOFFSETTO:+0200
TZNAME:CEST
DTSTART:20260329T010000
END:DAYLIGHT
BEGIN:STANDARD
TZOFFSETFROM:+0200
TZOFFSETTO:+0100
TZNAME:CET
DTSTART:20261025T010000
END:STANDARD
BEGIN:DAYLIGHT
TZOFFSETFROM:+0100
TZOFFSETTO:+0200
TZNAME:CEST
DTSTART:20270328T010000
END:DAYLIGHT
BEGIN:STANDARD
TZOFFSETFROM:+0200
TZOFFSETTO:+0100
TZNAME:CET
DTSTART:20271031T010000
END:STANDARD
END:VTIMEZONE
BEGIN:VEVENT
DTSTART;VALUE=DATE:20260421
DTEND;VALUE=DATE:20260423
DTSTAMP:20260421T120231
CREATED:20260416T184622Z
LAST-MODIFIED:20260416T184708Z
UID:17768-1776729600-1776902399@www.saxocell.de
SUMMARY:German Biotech Days
DESCRIPTION:Germany’s Hotspot for Biotech Visionaries and Decision Makers \nThe German Biotech Days (DBT) bring together entrepreneurs with scientists and partners from politics\, investors\, funding institutions and administration.
URL:https://www.saxocell.de/calendar/german-biotech-days/
LOCATION:Kongresshalle Leipzig\, Pfaffendorfer Str. 31\, Leipzig\, Sachsen\, 04105
END:VEVENT
END:VCALENDAR